BEGIN:VCALENDAR
METHOD:PUBLISH
PRODID:www-rrze-fau-de//Events//DE
VERSION:2.0
BEGIN:VEVENT
SUMMARY:NHR PerfLab Seminar: The MAQAO performance analysis and optimi
 zation framework (hybrid)
UID:040000008200E00074C5B7101A82E00800000000838D6416D5ABDC010000000000
 00000010000000966FB4168CF19C458329E736EA04C364
DESCRIPTION:Topic: The MAQAO performance analysis and optimization fra
 mework Speaker: Prof. William Jalby and Dr. Cédric Valensi\, Universi
 ty of Versailles Date and time: Tuesday\, March 10\, 2026\, at 2:00 p.
 m. CET Location: Seminar Room 2.049 (RRZE) and online via Zoom: https:
 //go-nhr.de/perflab-seminar Please find all information on the followi
 ng website: https://hpc.fau.de/2026/03/04/the-maqao-performance-analys
 is-and-optimization-framework/ This online event is organized by Erlan
 gen National High Performance Computing Center (NHR@FAU\, https://nhr.
 fau.de/) c/o Erlangen Regional Computing Center (RRZE). Inquiries may 
 be sent to hpc-support@fau.de.
DTSTART:20260310T130000Z
DTEND:20260310T140000Z
LOCATION:Seminar Room 2.049 (RRZE) and online via Zoom
DTSTAMP:20260420T082604Z
END:VEVENT
END:VCALENDAR