BEGIN:VCALENDAR
METHOD:PUBLISH
PRODID:www-rrze-fau-de//Events//DE
VERSION:2.0
BEGIN:VEVENT
SUMMARY:NHR PerfLab Seminar: Domain Decomposition-Based Preconditioner
 s and Neural Networks (hybrid)
UID:F36B9E89-9D08-4011-8832-B00E783971B6
DESCRIPTION:Topic: Domain Decomposition-Based Preconditioners and Neur
 al Networks Speaker: Prof. Dr. Alexander Heinlein\, TU Delft Date and 
 time: Tuesday\, February 3\, 2026\, at 2:00 p.m. CET Location: Seminar
  Room 2.049 (RRZE) and online via Zoom: https://go-nhr.de/perflab-semi
 nar Please find all information on the following website: https://hpc.
 fau.de/2026/01/15/nhr-perflab-seminar-domain-decomposition-based-preco
 nditioners-and-neural-networks-february-3-hybrid/ This online event is
  organized by Erlangen National High Performance Computing Center (NHR
 @FAU\, https://nhr.fau.de/) c/o Erlangen Regional Computing Center (RR
 ZE). Inquiries may be sent to hpc-support@fau.de.
DTSTART:20260203T130000Z
DTEND:20260203T140000Z
LOCATION:Seminar Room 2.049 (RRZE) and online via Zoom
DTSTAMP:20260421T053249Z
END:VEVENT
END:VCALENDAR