BEGIN:VCALENDAR
METHOD:PUBLISH
PRODID:www-rrze-fau-de//Events//DE
VERSION:2.0
BEGIN:VEVENT
SUMMARY:HPC in a nutshell: Using the HPC clusters at NHR@FAU-Introduct
 ion for AI Users
UID:040000008200E00074C5B7101A82E00800000000873BDE75F0BDDC010000000000
 00000010000000DA1564C76A89D14DA94569254D27FCC5
DESCRIPTION:HPC in a nutshell: Using the HPC clusters at NHR@FAU-Intro
 duction for AI Users This online event is aimed at newcomers who plan 
 to run AI workloads on the NHR@FAU system. Topics: * File handling for
  AI workloads * fast storage options * setting up python environments 
 for AI * setting up containers with Apptainer Time: Thursday\, April 1
 6\, 2025\, at 4:00 p.m. CEST Duration: approx. 90 minutes Zoom: https:
 //go-nhr.de/hpc-in-a-nutshell This online event is organized by Gerhar
 d Wellein / Erlangen National High Performance Computing Center (NHR@F
 AU\, https://nhr.fau.de/) c/o Erlangen Regional Computing Center (RRZE
 ). Inquiries may be sent to hpc-support@fau.de.
DTSTART:20260416T140000Z
DTEND:20260416T153000Z
LOCATION:Online via Zoom
DTSTAMP:20260422T093932Z
END:VEVENT
END:VCALENDAR