BEGIN:VCALENDAR
METHOD:PUBLISH
PRODID:www-rrze-fau-de//Events//DE
VERSION:2.0
BEGIN:VEVENT
SUMMARY:HPC in a nutshell: Using the HPC clusters at NHR@FAU-General I
 ntroduction (online)
UID:3DDF5A28-268E-424D-AB8E-65AC95F599B9
DESCRIPTION:This online event is a brief introduction to NHR@FAU clust
 er usage for new users. Topics: * Applying for an HPC account * Loggin
 g in * Starting and controlling jobs * Handling files and file systems
  Time: Wednesday\, February 4\, 2026\, at 4:00 p.m. CET Duration: appr
 ox. 60 minutes Zoom: https://go-nhr.de/hpc-in-a-nutshell In addition t
 o the General Introduction\, we will be offering an Introduction for A
 I users tomorrow\, Thursday\, February 5. For more information\, pleas
 e refer to: https://hpc.fau.de/teaching/hpc-cafe/#nutshell ___________
 _____________________ This online event is organized by Erlangen Natio
 nal High Performance Computing Center (NHR@FAU\, https://nhr.fau.de/) 
 c/o Erlangen Regional Computing Center (RRZE). Inquiries may be sent t
 o hpc-support@fau.de.
DTSTART:20260204T150000Z
DTEND:20260204T160000Z
LOCATION:Online via Zoom
RRULE:FREQ=WEEKLY;UNTIL=20260204T150000Z;INTERVAL=6;BYDAY=WE;WKST=SU
DTSTAMP:20260424T015331Z
END:VEVENT
END:VCALENDAR